BEGIN:VCALENDAR
VERSION:2.0
PRODID:-//AudioTheme 2.3.3
BEGIN:VEVENT
UID:urn:uuid:f3730af2-ed37-4568-8db1-b80967f48f37
URL:https://seanosborn.com/shows/82/
DTSTART;TZID=GMT:20190725T000000
SUMMARY:82
LOCATION:82\, 707 E E 4th Pl\, Los Angeles\, CA 90013\, Los Angeles\, Ca\, 90013
END:VEVENT
END:VCALENDAR
