BEGIN:VCALENDAR
VERSION:2.0
PRODID:-//AudioTheme 2.3.3
BEGIN:VEVENT
UID:urn:uuid:787cc217-7d81-4153-99f9-407705b27d20
URL:https://seanosborn.com/shows/largo-at-the-coronet/
DTSTART;TZID=GMT:20190730T000000
SUMMARY:Largo at the Coronet
LOCATION:Largo at the Coronet\, 366 N La Cienega Blvd\, Los Angeles\, Ca
END:VEVENT
END:VCALENDAR
