BEGIN:VCALENDAR
VERSION:2.0
PRODID:-//AudioTheme 2.3.3
BEGIN:VEVENT
UID:urn:uuid:7b6e993b-3a7e-4171-bf69-d0889ba2aea5
URL:https://seanosborn.com/shows/perch-2/
DTSTART;TZID=GMT:20190721T050000
SUMMARY:Perch
LOCATION:Perch\, 448 S Hill St\, Los Angeles\, CA 90013\, Los Angeles\, Ca\, United States of America\, 90013
END:VEVENT
END:VCALENDAR
