BEGIN:VCALENDAR
VERSION:2.0
PRODID:-//AudioTheme 2.3.3
BEGIN:VEVENT
UID:urn:uuid:0fb7edef-9ba5-469b-9468-61d6ce68f9ae
URL:https://seanosborn.com/shows/perch-3/
DTSTART;TZID=GMT:20190728T050000
SUMMARY:Perch
LOCATION:Perch\, 448 S Hill St\, Los Angeles\, CA 90013\, Los Angeles\, Ca\, United States of America\, 90013
END:VEVENT
END:VCALENDAR
