BEGIN:VCALENDAR
VERSION:2.0
PRODID:-//AudioTheme 2.3.3
BEGIN:VEVENT
UID:urn:uuid:94cedfaa-7986-432f-8a51-d4bfec3d9884
URL:https://seanosborn.com/shows/rap-up-at-the-short-stop-w-inka-one-analog/
DTSTART;TZID=GMT:20190727T040000
SUMMARY:Rap-Up at The Short Stop w/ Inka One & Analog
LOCATION:The Short Stop\, 1455 Sunset Blvd Los Angeles\, Ca 90026\, Los Angeles\, Ca\, United States\, 90026
END:VEVENT
END:VCALENDAR
